BEGIN:VCALENDAR
VERSION:2.0
PRODID:-//The Woods Project - ECPv6.15.20//NONSGML v1.0//EN
CALSCALE:GREGORIAN
METHOD:PUBLISH
X-ORIGINAL-URL:https://thewoodsproject.org
X-WR-CALDESC:Events for The Woods Project
REFRESH-INTERVAL;VALUE=DURATION:PT1H
X-Robots-Tag:noindex
X-PUBLISHED-TTL:PT1H
BEGIN:VTIMEZONE
TZID:America/Chicago
BEGIN:DAYLIGHT
TZOFFSETFROM:-0600
TZOFFSETTO:-0500
TZNAME:CDT
DTSTART:20240310T080000
END:DAYLIGHT
BEGIN:STANDARD
TZOFFSETFROM:-0500
TZOFFSETTO:-0600
TZNAME:CST
DTSTART:20241103T070000
END:STANDARD
BEGIN:DAYLIGHT
TZOFFSETFROM:-0600
TZOFFSETTO:-0500
TZNAME:CDT
DTSTART:20250309T080000
END:DAYLIGHT
BEGIN:STANDARD
TZOFFSETFROM:-0500
TZOFFSETTO:-0600
TZNAME:CST
DTSTART:20251102T070000
END:STANDARD
BEGIN:DAYLIGHT
TZOFFSETFROM:-0600
TZOFFSETTO:-0500
TZNAME:CDT
DTSTART:20260308T080000
END:DAYLIGHT
BEGIN:STANDARD
TZOFFSETFROM:-0500
TZOFFSETTO:-0600
TZNAME:CST
DTSTART:20261101T070000
END:STANDARD
END:VTIMEZONE
BEGIN:VEVENT
DTSTART;VALUE=DATE:20250531
DTEND;VALUE=DATE:20250602
DTSTAMP:20260419T091407
CREATED:20241120T221710Z
LAST-MODIFIED:20250515T202547Z
UID:11058-1748649600-1748822399@thewoodsproject.org
SUMMARY:Wilderness First Aid (WFA)
DESCRIPTION:Are you hoping to be a volunteer with The Woods Project this summer\, or participate in some other upcoming wilderness experience?  If so\, this might be the course for you!  The Woods Project will be hosting a Wilderness First Aid (WFA) course\, which will take place all day on Saturday\, May 31st and Sunday\, June 1st.   Each day should run from 8 a.m. to 5 p.m. with a break for lunch. Cost is $210 ($150 for TWP leaders) per participant for WFA\, and there will also be a CPR certification option for $40.
URL:https://thewoodsproject.org/calendar/wilderness-first-aid-wfa-3/
LOCATION:The Woods Project\, 2700 Southwest Freeway\, Houston\, TX\, 77098\, United States
ATTACH;FMTTYPE=image/jpeg:https://thewoodsproject.org/wp-content/uploads/2021/08/First-Aid-Kit-and-Boots.jpg
END:VEVENT
BEGIN:VEVENT
DTSTART;TZID=America/Chicago:20250615T053000
DTEND;TZID=America/Chicago:20250615T073000
DTSTAMP:20260419T091407
CREATED:20250226T235215Z
LAST-MODIFIED:20250610T022220Z
UID:11465-1749965400-1749972600@thewoodsproject.org
SUMMARY:Airport Day – Olympic Group 1
DESCRIPTION:It’s AIRPORT DAY!\nWe need your help! Join The Woods Project at both George Bush Intercontinental Airport (IAH) and or William P. Hobby Airport (HOU) as we send off 180 students and 60 volunteers for their life-changing 2 week wilderness immersion experiences in California and Washington. \nWe have 7 flights departing between June 15th through June 29th. For many of our students\, this will be their first time on a plane – an exciting and nervous time! We need volunteers on the ground to help our student groups maneuver through the check-in process along with helping to set up and distribute materials they will need for their journey. This is a great way to connect with our students and encourage them as they embark on their journey. \nParking: Volunteers can park close to the Terminals or choose satellite parking. Please allow adequate time to get to the terminals\, if you decide on satellite parking. \nFollow this link and select “Olympic 1” to register for Sunday\, June 15th\, 5:30 a.m. at George Bush Intercontinental Airport (IAH). If you are unable to register please email me at diana@thewoodsproject.org.\n \nQuestions or have a group interested in volunteering – reach out to diana@thewoodsproject.org.
URL:https://thewoodsproject.org/calendar/airport-day-olympic-group-1-2/
LOCATION:George Bush Intercontinental Airport\, 2800 N Terminal Rd\, Houston\, TX\, 77032
ATTACH;FMTTYPE=image/jpeg:https://thewoodsproject.org/wp-content/uploads/2024/05/20230625_045453-scaled.jpg
END:VEVENT
BEGIN:VEVENT
DTSTART;TZID=America/Chicago:20250616T060000
DTEND;TZID=America/Chicago:20250616T080000
DTSTAMP:20260419T091407
CREATED:20250417T025353Z
LAST-MODIFIED:20250610T022859Z
UID:11535-1750053600-1750060800@thewoodsproject.org
SUMMARY:Airport Day - Breckenridge (BOEC) Group 1
DESCRIPTION:It’s AIRPORT DAY!\nWe need your help! Join The Woods Project at William P. Hobby Airport (HOU) as we send off around 180 students and 60 volunteers for their life-changing 2 week wilderness immersion experiences in California and Washington. \nWe have 7 flights departing between June 15th through June 29th. For many of our students\, this will be their first time on a plane – an exciting and nervous time! We need volunteers on the ground to help our student groups maneuver through the check-in process along with helping to set up and distribute materials they will need for their journey. This is a great way to connect with our students and encourage them as they embark on their journey. \nParking: Volunteers can park close to the Terminals or choose satellite parking. Please allow adequate time to get to the terminals\, if you decide on satellite parking. \nFollow this link and select “BOEC 1” to register for Monday\, June 16th\, 6 a.m. at William P. Hobby Airport (Hobby).\n \nQuestions or have a group interested in volunteering – reach out to diana@thewoodsproject.org.
URL:https://thewoodsproject.org/calendar/airport-day-breckenridge-boec-1/
LOCATION:William P Hobby Airport\, 7800 Airport Blvd\, Houston\, TX\, 77061\, United States
CATEGORIES:Volunteer
ATTACH;FMTTYPE=image/jpeg:https://thewoodsproject.org/wp-content/uploads/2024/05/4686E745-56CB-4C4E-BEE9-E03617AD1B33.jpg
END:VEVENT
BEGIN:VEVENT
DTSTART;TZID=America/Chicago:20250617T050000
DTEND;TZID=America/Chicago:20250617T070000
DTSTAMP:20260419T091407
CREATED:20250417T025833Z
LAST-MODIFIED:20250610T023750Z
UID:11540-1750136400-1750143600@thewoodsproject.org
SUMMARY:Airport Day - Donner Group 1
DESCRIPTION:It’s AIRPORT DAY!\nWe need your help! Join The Woods Project at William P. Hobby Airport (HOU) as we send off around 180 students and 60 volunteers for their life-changing 2 week wilderness immersion experiences in California and Washington. \nWe have 7 flights departing between June 15th through June 29th. For many of our students\, this will be their first time on a plane – an exciting and nervous time! We need volunteers on the ground to help our student groups maneuver through the check-in process along with helping to set up and distribute materials they will need for their journey. This is a great way to connect with our students and encourage them as they embark on their journey. \nParking: Volunteers can park close to the Terminals or choose satellite parking. Please allow adequate time to get to the terminals\, if you decide on satellite parking. \nFollow this link and select “Donner 1” to register for Tuesday\, June 17th\, 5 a.m. at William P. Hobby Airport (Hobby).\n \nQuestions or have a group interested in volunteering – reach out to diana@thewoodsproject.org.
URL:https://thewoodsproject.org/calendar/airport-day-donner-1/
LOCATION:William P Hobby Airport\, 7800 Airport Blvd\, Houston\, TX\, 77061\, United States
ATTACH;FMTTYPE=image/jpeg:https://thewoodsproject.org/wp-content/uploads/2024/05/20230626_080309-1-scaled.jpg
END:VEVENT
BEGIN:VEVENT
DTSTART;TZID=America/Chicago:20250621T070000
DTEND;TZID=America/Chicago:20250621T090000
DTSTAMP:20260419T091407
CREATED:20250417T030355Z
LAST-MODIFIED:20250610T021221Z
UID:11538-1750489200-1750496400@thewoodsproject.org
SUMMARY:Airport Day - Breckenridge (BOEC) Group 2
DESCRIPTION:It’s AIRPORT DAY!\nWe need your help! Join The Woods Project at William P. Hobby Airport (HOU) as we send off around 180 students and 60 volunteers for their life-changing 2 week wilderness immersion experiences in California and Washington. \nWe have 7 flights departing between June 15th through June 29th. For many of our students\, this will be their first time on a plane – an exciting and nervous time! We need volunteers on the ground to help our student groups maneuver through the check-in process along with helping to set up and distribute materials they will need for their journey. This is a great way to connect with our students and encourage them as they embark on their journey. \nParking: Volunteers can park close to the Terminals or choose satellite parking. Please allow adequate time to get to the terminals\, if you decide on satellite parking. \nFollow this link and select “BOEC 2” to register for Saturday\, June 21st\, 7 a.m. at William P. Hobby Airport (Hobby). If you are unable to register please email me at diana@thewoodsproject.org.\n \nQuestions or have a group interested in volunteering – reach out to diana@thewoodsproject.org.
URL:https://thewoodsproject.org/calendar/airport-day-breckenridge-boec-group-2/
LOCATION:William P Hobby Airport\, 7800 Airport Blvd\, Houston\, TX\, 77061\, United States
ATTACH;FMTTYPE=image/jpeg:https://thewoodsproject.org/wp-content/uploads/2024/05/4686E745-56CB-4C4E-BEE9-E03617AD1B33.jpg
END:VEVENT
BEGIN:VEVENT
DTSTART;TZID=America/Chicago:20250622T053000
DTEND;TZID=America/Chicago:20250622T073000
DTSTAMP:20260419T091407
CREATED:20250226T235459Z
LAST-MODIFIED:20250610T023055Z
UID:11468-1750570200-1750577400@thewoodsproject.org
SUMMARY:Airport Day – Olympic Group 2
DESCRIPTION:It’s AIRPORT DAY!\nWe need your help! Join The Woods Project at both George Bush Intercontinental Airport (IAH) and or William P. Hobby Airport (HOU) as we send off 180 students and 60 volunteers for their life-changing 2 week wilderness immersion experiences in California and Washington. \nWe have 7 flights departing between June 15th through June 29th. For many of our students\, this will be their first time on a plane – an exciting and nervous time! We need volunteers on the ground to help our student groups maneuver through the check-in process along with helping to set up and distribute materials they will need for their journey. This is a great way to connect with our students and encourage them as they embark on their journey. \nParking: Volunteers can park close to the Terminals or choose satellite parking. Please allow adequate time to get to the terminals\, if you decide on satellite parking. \nFollow this link and select “Olympic 2” to register for Sunday\, June 22th\, 5:30 a.m. at George Bush Intercontinental Airport (IAH). If you are unable to register please email me at diana@thewoodsproject.org.\n \nQuestions or have a group interested in volunteering – reach out to diana@thewoodsproject.org.
URL:https://thewoodsproject.org/calendar/airport-day-olympic-group-2-2/
LOCATION:George Bush Intercontinental Airport\, 2800 N Terminal Rd\, Houston\, TX\, 77032
ATTACH;FMTTYPE=image/jpeg:https://thewoodsproject.org/wp-content/uploads/2024/05/20230625_045453-scaled.jpg
END:VEVENT
BEGIN:VEVENT
DTSTART;TZID=America/Chicago:20250625T050000
DTEND;TZID=America/Chicago:20250625T070000
DTSTAMP:20260419T091407
CREATED:20250417T030248Z
LAST-MODIFIED:20250610T023547Z
UID:11542-1750827600-1750834800@thewoodsproject.org
SUMMARY:Airport Day - Donner Group 2
DESCRIPTION:It’s AIRPORT DAY!\nWe need your help! Join The Woods Project at William P. Hobby Airport (HOU) as we send off around 180 students and 60 volunteers for their life-changing 2 week wilderness immersion experiences in California and Washington. \nWe have 7 flights departing between June 15th through June 29th. For many of our students\, this will be their first time on a plane – an exciting and nervous time! We need volunteers on the ground to help our student groups maneuver through the check-in process along with helping to set up and distribute materials they will need for their journey. This is a great way to connect with our students and encourage them as they embark on their journey. \nParking: Volunteers can park close to the Terminals or choose satellite parking. Please allow adequate time to get to the terminals\, if you decide on satellite parking. \nFollow this link and select “Donner 2” to register for Wednesday\, June 25th\, 5 a.m. at William P. Hobby Airport (Hobby). If you are unable to register please email me at diana@thewoodsproject.org.\n \nQuestions or have a group interested in volunteering – reach out to diana@thewoodsproject.org.
URL:https://thewoodsproject.org/calendar/airport-day-donner-2/
LOCATION:William P Hobby Airport\, 7800 Airport Blvd\, Houston\, TX\, 77061\, United States
CATEGORIES:Volunteer
ATTACH;FMTTYPE=image/jpeg:https://thewoodsproject.org/wp-content/uploads/2024/05/20230626_080309-1-scaled.jpg
END:VEVENT
BEGIN:VEVENT
DTSTART;TZID=America/Chicago:20250629T053000
DTEND;TZID=America/Chicago:20250629T073000
DTSTAMP:20260419T091407
CREATED:20250226T235727Z
LAST-MODIFIED:20250610T023635Z
UID:11471-1751175000-1751182200@thewoodsproject.org
SUMMARY:Airport Day – Olympic Group 3
DESCRIPTION:It’s AIRPORT DAY!\nWe need your help! Join The Woods Project at both George Bush Intercontinental Airport (IAH) and or William P. Hobby Airport (HOU) as we send off 180 students and 60 volunteers for their life-changing 2 week wilderness immersion experiences in California and Washington. \nWe have 7 flights departing between June 15th through June 29th. For many of our students\, this will be their first time on a plane – an exciting and nervous time! We need volunteers on the ground to help our student groups maneuver through the check-in process along with helping to set up and distribute materials they will need for their journey. This is a great way to connect with our students and encourage them as they embark on their journey. \nParking: Volunteers can park close to the Terminals or choose satellite parking. Please allow adequate time to get to the terminals\, if you decide on satellite parking. \nFollow this link and select “Olympic 3” to register for Sunday\, June 29th\, 5:30 a.m. at George Bush Intercontinental Airport (IAH).  \nQuestions or have a group interested in volunteering – reach out to diana@thewoodsproject.org.
URL:https://thewoodsproject.org/calendar/airport-day-olympic-group-3-2/
LOCATION:George Bush Intercontinental Airport\, 2800 N Terminal Rd\, Houston\, TX\, 77032
ATTACH;FMTTYPE=image/jpeg:https://thewoodsproject.org/wp-content/uploads/2024/05/20230625_045453-scaled.jpg
END:VEVENT
END:VCALENDAR