BEGIN:VCALENDAR
VERSION:2.0
PRODID:-//The Woods Project - ECPv6.15.20//NONSGML v1.0//EN
CALSCALE:GREGORIAN
METHOD:PUBLISH
X-WR-CALNAME:The Woods Project
X-ORIGINAL-URL:https://thewoodsproject.org
X-WR-CALDESC:Events for The Woods Project
REFRESH-INTERVAL;VALUE=DURATION:PT1H
X-Robots-Tag:noindex
X-PUBLISHED-TTL:PT1H
BEGIN:VTIMEZONE
TZID:America/Chicago
BEGIN:DAYLIGHT
TZOFFSETFROM:-0600
TZOFFSETTO:-0500
TZNAME:CDT
DTSTART:20240310T080000
END:DAYLIGHT
BEGIN:STANDARD
TZOFFSETFROM:-0500
TZOFFSETTO:-0600
TZNAME:CST
DTSTART:20241103T070000
END:STANDARD
BEGIN:DAYLIGHT
TZOFFSETFROM:-0600
TZOFFSETTO:-0500
TZNAME:CDT
DTSTART:20250309T080000
END:DAYLIGHT
BEGIN:STANDARD
TZOFFSETFROM:-0500
TZOFFSETTO:-0600
TZNAME:CST
DTSTART:20251102T070000
END:STANDARD
BEGIN:DAYLIGHT
TZOFFSETFROM:-0600
TZOFFSETTO:-0500
TZNAME:CDT
DTSTART:20260308T080000
END:DAYLIGHT
BEGIN:STANDARD
TZOFFSETFROM:-0500
TZOFFSETTO:-0600
TZNAME:CST
DTSTART:20261101T070000
END:STANDARD
END:VTIMEZONE
BEGIN:VEVENT
DTSTART;TZID=America/Chicago:20250401T113000
DTEND;TZID=America/Chicago:20250401T130000
DTSTAMP:20260419T120523
CREATED:20241212T035644Z
LAST-MODIFIED:20250207T031508Z
UID:11066-1743507000-1743512400@thewoodsproject.org
SUMMARY:Annual Luncheon
DESCRIPTION:Join us at our Annual Luncheon to meet The Woods Project alumni\, hear their inspiring stories of transformation\, and learn more about how we are changing the life trajectory of Houston students. \nThe Woods Project trip changes lives in a thousand different ways.  In the woods\, students gain new confidence\, develop critical life and leadership skills\, and find a renewed drive to succeed against all odds. \nThe Annual Luncheon provides a unique opportunity to meet students from our program\, as they will be seated at your table and will share the impact The Woods Project experiences have had on their life and how they plan to use the skills they learned along the trails in school and in life. \nClick here to purchase your table or ticket. \nEvent and Table Sponsorships Available\, contact Jessi Manley\, 816-507-3661 or jessi@thewoodsproject.org for info. Your support will help change lives as we expand our wilderness immersion programs and provide experiential learning experiences to even more high-potential Houston high school students from historically marginalized communities!
URL:https://thewoodsproject.org/calendar/annual-luncheon-2/
LOCATION:The Junior League of Houston\, 1811 Briar Oaks Ln\, Houston\, TX\, 77027\, United States
ATTACH;FMTTYPE=image/jpeg:https://thewoodsproject.org/wp-content/uploads/2021/12/2018-11-15TheWoodsProject-8748-scaled.jpg
END:VEVENT
BEGIN:VEVENT
DTSTART;TZID=America/Chicago:20250415T173000
DTEND;TZID=America/Chicago:20250415T203000
DTSTAMP:20260419T120523
CREATED:20250402T202257Z
LAST-MODIFIED:20250403T021341Z
UID:11512-1744738200-1744749000@thewoodsproject.org
SUMMARY:Parent Meetings: Volunteers Needed
DESCRIPTION:It’s summer at The Woods Project!\nTo kick off our summer trips we host informational meetings for students and parents so they can see what our summer program entails. We would love a handful of volunteers that can help with check in and if possible translation. We have students from different schools and organizations show up to each meeting.  We will have a few parents that speak primarily Spanish\, French\, or Vietnamese. Having a volunteer that can help translate our responses and help parents ask their question would be fantastic! Of course\, if you don’t speak a second language no worries! Your help checking students in and guiding them to the meeting room is would be incredibly helpful! \nThe meeting itself starts at 6:30 p.m. We ask that you show up at 5:30 to help set up the check-in table and possibly the room. This year we are meeting at the front building\, (the main building) of the American Red Cross. \nRegister for a shift here. \nTuesday\, April 15 \nTuesday\, April 22 \nWednesday\, April 30 \nIf you have questions please reach out to diana@thewoodsproject.org.
URL:https://thewoodsproject.org/calendar/parent-meetings-volunteers-needed/
LOCATION:The Woods Project\, 2700 Southwest Freeway\, Houston\, TX\, 77098\, United States
ATTACH;FMTTYPE=image/jpeg:https://thewoodsproject.org/wp-content/uploads/2025/04/20240411_184537-scaled.jpg
END:VEVENT
BEGIN:VEVENT
DTSTART;TZID=America/Chicago:20250422T173000
DTEND;TZID=America/Chicago:20250422T203000
DTSTAMP:20260419T120523
CREATED:20250402T202431Z
LAST-MODIFIED:20250403T021406Z
UID:11517-1745343000-1745353800@thewoodsproject.org
SUMMARY:Parent Meetings: Volunteers Needed
DESCRIPTION:It’s summer at The Woods Project!\nTo kick off our summer trips we host informational meetings for students and parents so they can see what our summer program entails. We would love a handful of volunteers that can help with check in and if possible translation. We have students from different schools and organizations show up to each meeting.  We will have a few parents that speak primarily Spanish\, French\, or Vietnamese. Having a volunteer that can help translate our responses and help parents ask their question would be fantastic! Of course\, if you don’t speak a second language no worries! Your help checking students in and guiding them to the meeting room is would be incredibly helpful! \nThe meeting itself starts at 6:30 p.m. We ask that you show up at 5:30 to help set up the check-in table and possibly the room. This year we are meeting at the front building\, (the main building) of the American Red Cross. \nRegister for a shift here. \nTuesday\, April 15 \nTuesday\, April 22 \nWednesday\, April 30 \nIf you have questions please reach out to diana@thewoodsproject.org.
URL:https://thewoodsproject.org/calendar/parent-meetings-volunteers-needed-2/
LOCATION:The Woods Project\, 2700 Southwest Freeway\, Houston\, TX\, 77098\, United States
ATTACH;FMTTYPE=image/jpeg:https://thewoodsproject.org/wp-content/uploads/2025/04/20240411_184537-scaled.jpg
END:VEVENT
BEGIN:VEVENT
DTSTART;VALUE=DATE:20250426
DTEND;VALUE=DATE:20250428
DTSTAMP:20260419T120523
CREATED:20241120T051155Z
LAST-MODIFIED:20250207T031449Z
UID:11053-1745625600-1745798399@thewoodsproject.org
SUMMARY:Summer Leader Training #1
DESCRIPTION:Summer Leader Training\nRequired for ALL summer volunteer leaders.\n \nThe Woods Project summer leader training spans 2 days and will be held at our offices directly behind the American Red Cross building (2700 Southwest Freeway\, Houston\, TX\, 77098). This training is for our summer trip leaders only. The training covers important information on procedures\, policies\, and programming through the incorporation of presentation\, discussion\, scenarios\, and hands-on gear handling. Training will run from 8 am to 5 pm each day. Please dress comfortable and bring a refillable water bottle. Breakfast and lunch will be served each day. \nSummer leaders are required to attend 1 of the 2  available sessions. \nLeader training #1 – Saturday\, April 26 – Sunday\, April 27: REGISTER HERE \nLeader training #2 – Saturday\, May 17 – Sunday\, May 18: REGISTER HERE \nPlease register for one of the trainings if you have been assigned as a Summer Leader for the 2025 trips. \n 
URL:https://thewoodsproject.org/calendar/summer-leader-training-1-3/
LOCATION:The Woods Project\, 2700 Southwest Freeway\, Houston\, TX\, 77098\, United States
ATTACH;FMTTYPE=image/jpeg:https://thewoodsproject.org/wp-content/uploads/2023/01/Photo-May-22-11-54-51-AM-scaled.jpg
END:VEVENT
BEGIN:VEVENT
DTSTART;TZID=America/Chicago:20250430T173000
DTEND;TZID=America/Chicago:20250430T203000
DTSTAMP:20260419T120523
CREATED:20250402T202612Z
LAST-MODIFIED:20250403T021308Z
UID:11519-1746034200-1746045000@thewoodsproject.org
SUMMARY:Parent Meetings: Volunteers Needed
DESCRIPTION:It’s summer at The Woods Project!\nTo kick off our summer trips we host informational meetings for students and parents so they can see what our summer program entails. We would love a handful of volunteers that can help with check in and if possible translation. We have students from different schools and organizations show up to each meeting.  We will have a few parents that speak primarily Spanish\, French\, or Vietnamese. Having a volunteer that can help translate our responses and help parents ask their question would be fantastic! Of course\, if you don’t speak a second language no worries! Your help checking students in and guiding them to the meeting room is would be incredibly helpful! \nThe meeting itself starts at 6:30 p.m. We ask that you show up at 5:30 to help set up the check-in table and possibly the room. This year we are meeting at the front building\, (the main building) of the American Red Cross. \nRegister for a shift here. \nTuesday\, April 15 \nTuesday\, April 22 \nWednesday\, April 30 \nIf you have questions please reach out to diana@thewoodsproject.org.
URL:https://thewoodsproject.org/calendar/parent-meetings-volunteers-needed-3/
LOCATION:The Woods Project\, 2700 Southwest Freeway\, Houston\, TX\, 77098\, United States
ATTACH;FMTTYPE=image/jpeg:https://thewoodsproject.org/wp-content/uploads/2025/04/20240411_184537-scaled.jpg
END:VEVENT
END:VCALENDAR