BEGIN:VCALENDAR
VERSION:2.0
PRODID:-//The Woods Project - ECPv6.15.20//NONSGML v1.0//EN
CALSCALE:GREGORIAN
METHOD:PUBLISH
X-WR-CALNAME:The Woods Project
X-ORIGINAL-URL:https://thewoodsproject.org
X-WR-CALDESC:Events for The Woods Project
REFRESH-INTERVAL;VALUE=DURATION:PT1H
X-Robots-Tag:noindex
X-PUBLISHED-TTL:PT1H
BEGIN:VTIMEZONE
TZID:UTC
BEGIN:STANDARD
TZOFFSETFROM:+0000
TZOFFSETTO:+0000
TZNAME:UTC
DTSTART:20230101T000000
END:STANDARD
END:VTIMEZONE
BEGIN:VEVENT
DTSTART;VALUE=DATE:20241115
DTEND;VALUE=DATE:20241118
DTSTAMP:20260419T185012
CREATED:20240904T022012Z
LAST-MODIFIED:20241003T214143Z
UID:10936-1731628800-1731887999@thewoodsproject.org
SUMMARY:Fall Weekend Trip #2
DESCRIPTION:Martin Dies Jr Service Project or Turkey Creek Backpacking\nMartin Dies\, Jr.:  The Woods Project will once again be partnering with Texas Parks and Wildlife through Texas Outdoor Families. We will spend both Friday and Saturday nights camping along the shores of Steinhagen Reservoir at Martin Dies\, Jr. State Park. On Saturday we will be working with the Texas Conservation Association and help them plant around the park.\n \nTurkey Creek Backpacking:  You can’t beat backpacking in the fall in Texas! Please join us for a great weekend exploring a section of the Big Thicket National Preserve! On Saturday\, the group will head out to the Turkey Creek Trail. Three groups of hikers will hike 12 miles in total between Saturday and Sunday morning. Saturday evening will be spent at a campsite along the trail. Upon finishing the hike on Sunday morning\, the group will head back to Houston at approximately 12:00pm. \nREGISTER HERE! \nPlease note:  The trip signup is your opportunity to make your preferences and availability for our weekend trips known.  We will make our best effort to place you on the trip(s) that you have requested.  However\, due to limits on capacity\, as well as the need to maintain a reasonable adult:student ratio\, there may be trips where we do not have space for every leader who would like to attend. We will follow up by email 1-2 weeks prior to our weekend trips with details and all the information you will need for attending.  Thank you!
URL:https://thewoodsproject.org/calendar/fall-weekend-trip-2-3/
ATTACH;FMTTYPE=image/jpeg:https://thewoodsproject.org/wp-content/uploads/2022/01/Photo-Mar-24-1-51-58-PM.jpg
END:VEVENT
END:VCALENDAR