BEGIN:VCALENDAR
VERSION:2.0
PRODID:-//The Woods Project - ECPv6.15.20//NONSGML v1.0//EN
CALSCALE:GREGORIAN
METHOD:PUBLISH
X-WR-CALNAME:The Woods Project
X-ORIGINAL-URL:https://thewoodsproject.org
X-WR-CALDESC:Events for The Woods Project
REFRESH-INTERVAL;VALUE=DURATION:PT1H
X-Robots-Tag:noindex
X-PUBLISHED-TTL:PT1H
BEGIN:VTIMEZONE
TZID:UTC
BEGIN:STANDARD
TZOFFSETFROM:+0000
TZOFFSETTO:+0000
TZNAME:UTC
DTSTART:20230101T000000
END:STANDARD
END:VTIMEZONE
BEGIN:VEVENT
DTSTART;VALUE=DATE:20241011
DTEND;VALUE=DATE:20241014
DTSTAMP:20260419T201700
CREATED:20240904T023219Z
LAST-MODIFIED:20241005T004736Z
UID:10942-1728604800-1728863999@thewoodsproject.org
SUMMARY:Fall Weekend Trip #1
DESCRIPTION:Lake Livingston Kayaking or Memorial Park Backpacking\nLake Livingston Canoeing/Kayaking:  The Woods Project will once again be partnering with Texas Parks and Wildlife through Texas Outdoor Families. We will spend both Friday and Saturday nights camping along the shores of Lake Livingston at Lake Livingston State Park. On Saturday\, the group will be split into two so everyone will spend a half day of out on the water kayaking and the other half day hiking\, geocaching\, and fishing. If you have your own boat\, we encourage you to bring it along!\n \nMemorial Park Backpacking:  Please join us this Saturday for a great workshop exploring a section of Memorial Park! We will meet at the park at 9 am and we will spend the morning learning how to pack a backpack and spend some time walking the trails around the park. We should be done by around 1 pm.\n \nREGISTER HERE! \nPlease note:  The trip signup is your opportunity to make your preferences and availability for our weekend trips known.  We will make our best effort to place you on the trip(s) that you have requested.  However\, due to limits on capacity\, as well as the need to maintain a reasonable adult:student ratio\, there may be trips where we do not have space for every leader who would like to attend. We will follow up by email 1-2 weeks prior to our weekend trips with details and all the information you will need for attending.  Thank you!
URL:https://thewoodsproject.org/calendar/fall-weekend-trip-1-3/
ATTACH;FMTTYPE=image/jpeg:https://thewoodsproject.org/wp-content/uploads/2024/01/PXL_20230304_170920631-scaled.jpg
END:VEVENT
BEGIN:VEVENT
DTSTART;TZID=UTC:20241016T090000
DTEND;TZID=UTC:20241016T130000
DTSTAMP:20260419T201700
CREATED:20240828T012816Z
LAST-MODIFIED:20240828T014201Z
UID:10921-1729069200-1729083600@thewoodsproject.org
SUMMARY:Tent Washing Day
DESCRIPTION:Come help us wash our tents!\nOur tents get a lot of use and after several years of use they are in desperate need of washing. We will meet at The Woods Project office and wash our tents using a bin method. This is a first for us and we are not sure how many we can get through in the allotted time. Because we need to keep our tents waterproofed careful handling will be required so that we do not get tears in them. We will provide lunch\, snacks\, and drinks. The area will be in full sun in the morning so please wear a hat\, and bring a refillable water bottle. \nTent Wash Day\nWednesday\, October 16\n9 am to 1pm\nREGISTER HERE \nThis is the first of three wash days. If you are interested in helping to wash our backpacks or tents please sign up for those as well! \nSleeping Bag Wash Day: Wednesday\, September 25 \nBackpack Wash Day: Monday\, September 30 \nIf this is your first time volunteering for us\, please complete our Event Volunteer Form before registering for the event. Please contact Diana Liga\, diana@thewoodsproject.org\, if you have any questions.
URL:https://thewoodsproject.org/calendar/tent-washing-day/
LOCATION:The Woods Project\, 2700 Southwest Freeway\, Houston\, TX\, 77098\, United States
ATTACH;FMTTYPE=image/jpeg:https://thewoodsproject.org/wp-content/uploads/2024/08/Tent-Rachael-Sears-scaled-e1724791246356.jpeg
END:VEVENT
BEGIN:VEVENT
DTSTART;VALUE=DATE:20241025
DTEND;VALUE=DATE:20241027
DTSTAMP:20260419T201700
CREATED:20240502T205557Z
LAST-MODIFIED:20241025T023625Z
UID:10687-1729814400-1729987199@thewoodsproject.org
SUMMARY:Walk for The Woods Project - Volunteers
DESCRIPTION:The Walk for The Woods Project \nThe Woods Project is hosting our 13th annual Walk for The Woods Project event\, presented by ENGIE\, on Saturday\, October 26\, 2024 at BakerRipley- Ripley House. The Walk is our largest fundraiser of the year and will help us provide life-changing leadership development opportunities to even more Houston high school students from low-income communities. Nearly 200 students are expected to participate in our 2-week wilderness immersion program in summer 2025! \nA big thanks to those of you that have signed up to volunteer! We look forward to seeing you all on Friday and Saturday.
URL:https://thewoodsproject.org/calendar/walk-for-the-woods-project-volunteers-2/
LOCATION:BakerRipley Ripley House\, 4414 Navigation Blvd\, Houston\, TX\, 77011
ATTACH;FMTTYPE=image/jpeg:https://thewoodsproject.org/wp-content/uploads/2024/05/Volunteer-Parking-and-Map.jpg
END:VEVENT
END:VCALENDAR