BEGIN:VCALENDAR
VERSION:2.0
PRODID:-//The Woods Project - ECPv6.15.20//NONSGML v1.0//EN
CALSCALE:GREGORIAN
METHOD:PUBLISH
X-ORIGINAL-URL:https://thewoodsproject.org
X-WR-CALDESC:Events for The Woods Project
REFRESH-INTERVAL;VALUE=DURATION:PT1H
X-Robots-Tag:noindex
X-PUBLISHED-TTL:PT1H
BEGIN:VTIMEZONE
TZID:UTC
BEGIN:STANDARD
TZOFFSETFROM:+0000
TZOFFSETTO:+0000
TZNAME:UTC
DTSTART:20230101T000000
END:STANDARD
END:VTIMEZONE
BEGIN:VEVENT
DTSTART;TZID=UTC:20240201T183000
DTEND;TZID=UTC:20240201T200000
DTSTAMP:20260420T060731
CREATED:20231214T024624Z
LAST-MODIFIED:20240124T044035Z
UID:10388-1706812200-1706817600@thewoodsproject.org
SUMMARY:Virtual Trip Leader Orientation
DESCRIPTION:For those that were unavailable for the in-person class we have scheduled a virtual trip leader orientation. It is scheduled for Thursday\, February 1st from 6:30pm – 8pm. It will be held over Zoom. The Zoom link will be sent out a few days before the class. Attendees will be required to have their cameras on during the class. \nOrientation Topics: \n\nThe Woods Project Introduction\nVolunteer Opportunities\nWeekend Trip Outline\nLeader Roles and Responsibilities\nSafety and Abuse Prevention Reminders\n\nThis session is required for first-time weekend trip volunteers. If you know of any adults that might also be interested\, please pass on the date and have them sign up. We have a minimum age requirement of 23 years old. \nREGISTER HERE. \nIf this is your first event with The Woods Project\, please click here to complete our Event Volunteer  Form. If you decide to become a trip leader volunteer\, you will be asked to fill out our longer Trip Leader Application. \nQuestions? Please contact Diana Liga\, diana@thewoodsproject.org
URL:https://thewoodsproject.org/calendar/virtual-trip-volunteer-orientation/
CATEGORIES:Participate
ATTACH;FMTTYPE=image/jpeg:https://thewoodsproject.org/wp-content/uploads/2023/11/Photo-Jun-26-2023-12-31-00-PM-scaled.jpg
END:VEVENT
BEGIN:VEVENT
DTSTART;VALUE=DATE:20240209
DTEND;VALUE=DATE:20240212
DTSTAMP:20260420T060731
CREATED:20240118T032431Z
LAST-MODIFIED:20240118T032431Z
UID:10472-1707436800-1707695999@thewoodsproject.org
SUMMARY:Spring Weekend Trip #1
DESCRIPTION:Little Thicket Nature Sanctuary or Sam Houston National Forest\nLittle Thicket Nature Sanctuary:  The Woods Project is excited to have access to explore this private nature sanctuary located just outside of Houston. We will day hike parts of the 655-acre sanctuary\, exploring the local fauna and wildlife. This trip will combine camping with a service learning project to help maintain and preserve the area! \nSam Houston National Forest:  This is a great opportunity for your students and leaders to have a glimpse of what to expect on their summer trip. We will have four groups hiking the Four Notch Loop and the Lone Star Hiking Trail. The groups will hike about 10 miles total over the course of Saturday and Sunday. We are looking for folks of all skill levels – from first-time backpackers to experts!\n \nREGISTER HERE! \nPlease note:  The trip signup is your opportunity to make your preferences and availability for our weekend trips known.  We will make our best effort to place you on the trip(s) that you have requested.  However\, due to limits on capacity\, as well as the need to maintain a reasonable adult:student ratio\, there may be trips where we do not have space for every leader who would like to attend. We will follow up by email 1-2 weeks prior to our weekend trips with details and all the information you will need for attending.  Thank you!
URL:https://thewoodsproject.org/calendar/spring-weekend-trip-1-3/
ATTACH;FMTTYPE=image/jpeg:https://thewoodsproject.org/wp-content/uploads/2024/01/895836C6-DD64-4FA3-8799-605446C57E16-scaled.jpg
END:VEVENT
BEGIN:VEVENT
DTSTART;VALUE=DATE:20240223
DTEND;VALUE=DATE:20240226
DTSTAMP:20260420T060731
CREATED:20240112T032525Z
LAST-MODIFIED:20240112T051458Z
UID:10423-1708646400-1708905599@thewoodsproject.org
SUMMARY:Spring Weekend Trip #2
DESCRIPTION:Galveston State Park or Turkey Creek Backpacking\nGalveston State Park:  Galveston is a great location for kayaking with opportunities to see the beach and the bay. We are partnering with Texas Parks and Wildlife for our kayak weekend in Galveston Bay. This is a great opportunity for the students to see a different side of Galveston Island. Both Friday and Saturday evening will be spent at Galveston State Park.\n \nTurkey Creek Backpacking:  You can’t beat backpacking in the fall in Texas! Please join us for a great weekend exploring a section of the Big Thicket National Preserve! On Saturday\, the group will head out to the Turkey Creek Trail. Three groups of hikers will hike 12 miles in total between Saturday and Sunday morning. Saturday evening will be spent at a campsite along the trail. Upon finishing the hike on Sunday morning\, the group will head back to Houston at approximately 12:00pm. \nREGISTER HERE! \nPlease note:  The trip signup is your opportunity to make your preferences and availability for our weekend trips known.  We will make our best effort to place you on the trip(s) that you have requested.  However\, due to limits on capacity\, as well as the need to maintain a reasonable adult:student ratio\, there may be trips where we do not have space for every leader who would like to attend. We will follow up by email 1-2 weeks prior to our weekend trips with details and all the information you will need for attending.  Thank you!
URL:https://thewoodsproject.org/calendar/spring-weekend-trip-2-3/
ATTACH;FMTTYPE=image/jpeg:https://thewoodsproject.org/wp-content/uploads/2024/01/IMG_5378-scaled.jpg
END:VEVENT
BEGIN:VEVENT
DTSTART;TZID=UTC:20240229T180000
DTEND;TZID=UTC:20240229T200000
DTSTAMP:20260420T060731
CREATED:20231220T224137Z
LAST-MODIFIED:20240229T041111Z
UID:10409-1709229600-1709236800@thewoodsproject.org
SUMMARY:Summer Food Prep-FULL
DESCRIPTION:The Woods Project needs your help as we prepare backpacking meals for our 2024 summer trips. We will be preparing over a thousand dinner servings for the back country\, and we cannot put it all together without your help. Please bring a refillable water bottle and comfortable clothes. We will provide a light dinner and drinks. Contact diana@thewoodsproject.org with any questions. \nAll volunteers that have not submitted an Event Volunteer Form\, must do so before registering. Thank you\, we look forward to seeing you at the TWP office! \nEvent is Full. Thank you!
URL:https://thewoodsproject.org/calendar/summer-food-prep-2/
LOCATION:The Woods Project\, 2700 Southwest Freeway\, Houston\, TX\, 77098\, United States
ATTACH;FMTTYPE=image/jpeg:https://thewoodsproject.org/wp-content/uploads/2023/12/20230420_183829-scaled-e1703090410949.jpg
END:VEVENT
END:VCALENDAR