BEGIN:VCALENDAR
VERSION:2.0
PRODID:-//The Woods Project - ECPv6.15.20//NONSGML v1.0//EN
CALSCALE:GREGORIAN
METHOD:PUBLISH
X-ORIGINAL-URL:https://thewoodsproject.org
X-WR-CALDESC:Events for The Woods Project
REFRESH-INTERVAL;VALUE=DURATION:PT1H
X-Robots-Tag:noindex
X-PUBLISHED-TTL:PT1H
BEGIN:VTIMEZONE
TZID:UTC
BEGIN:STANDARD
TZOFFSETFROM:+0000
TZOFFSETTO:+0000
TZNAME:UTC
DTSTART:20220101T000000
END:STANDARD
END:VTIMEZONE
BEGIN:VEVENT
DTSTART;TZID=UTC:20230601T180000
DTEND;TZID=UTC:20230601T210000
DTSTAMP:20260420T044834
CREATED:20230210T011724Z
LAST-MODIFIED:20230324T220441Z
UID:9498-1685642400-1685653200@thewoodsproject.org
SUMMARY:Olympic: Summer Gear Pack Out
DESCRIPTION:Please join us to help prepare for our summer program!  On this day\, we will be taking all of the camping equipment needed for the summer trip to Olympic National Park\, organizing it into backpack groups\, and then stuffing it into gearbags that will be shipped across the country so our students can use the camping equipment during their summer trips. \nPlease bring a refillable water bottle and comfortable clothes you do not mind getting dirty. Pizza will be provided. \nPlease click here to register for this event! \nWe look forward to seeing you at our warehouse (6910 Renwick Dr. Suite V – on the backside of the complex). Please\, contact diana@thewoodsproject.org with any questions. \nNOTE: If this is your first time volunteering this year or it’s been a while\, please take a few minutes to complete our Event Volunteer Registration Form.
URL:https://thewoodsproject.org/calendar/olympic-summer-gear-pack-out/
LOCATION:TWP Warehouse\, 6910 Renwick Drive\, Suite V\, Houston\, 77081\, United States
CATEGORIES:Volunteer
ATTACH;FMTTYPE=image/jpeg:https://thewoodsproject.org/wp-content/uploads/2023/02/D72D79F1-1CEF-4BC0-AE87-B0EA0F350719.jpg
END:VEVENT
BEGIN:VEVENT
DTSTART;TZID=UTC:20230605T080000
DTEND;TZID=UTC:20230606T170000
DTSTAMP:20260420T044834
CREATED:20230326T082713Z
LAST-MODIFIED:20230426T030018Z
UID:9621-1685952000-1686070800@thewoodsproject.org
SUMMARY:Wilderness First Aid #2
DESCRIPTION:Wilderness First Aid\nAre you hoping to be a volunteer with The Woods Project this summer\, or participate in some other upcoming wilderness experience?  If so\, this might be the course for you!  The Woods Project will be hosting a Wilderness First Aid (WFA) course\, which will take place all day on Monday\, June 5 and Tuesday\, June 6.  Cost is $210 ($150 for TWP leaders) per participant for WFA\, and there will also be a CPR certification option for $40. \nREGISTER HERE if you would like to attend.
URL:https://thewoodsproject.org/calendar/wilderness-first-aid-2/
LOCATION:The Woods Project\, 2700 Southwest Freeway\, Houston\, TX\, 77098\, United States
ATTACH;FMTTYPE=image/jpeg:https://thewoodsproject.org/wp-content/uploads/2023/03/BD35DE00-FCBC-4EC1-993C-B8AA2C764D2C-scaled.jpg
END:VEVENT
BEGIN:VEVENT
DTSTART;TZID=UTC:20230608T180000
DTEND;TZID=UTC:20230608T210000
DTSTAMP:20260420T044834
CREATED:20230210T015216Z
LAST-MODIFIED:20230324T215908Z
UID:9503-1686247200-1686258000@thewoodsproject.org
SUMMARY:Donner: Summer Gear Pack Out
DESCRIPTION:Please join us on Thursday\, June 8th\, to help prepare for our summer program!  On this day\, we will be taking all of the camping equipment needed for the summer trip to Donner Pass\, organizing it into backpack groups\, and then stuffing it into gearbags that will be shipped across the country so our students can use the camping equipment during their summer trips. \nPlease bring a refillable water bottle and comfortable clothes you do not mind getting dirty. Pizza will be provided. \nPlease click here to register for the event! \nWe look forward to seeing you at TWP Warehouse (6910 Renwick Dr. Suite V – on the backside of the complex). Please contact diana@thewoodsproject.org with any questions. \nNOTE: If this is your first time volunteering this year or it’s been a while\, please take a few minutes to complete our Event Volunteer Registration Form.
URL:https://thewoodsproject.org/calendar/donner-summer-gear-pack-out/
LOCATION:TWP Warehouse\, 6910 Renwick Drive\, Suite V\, Houston\, 77081\, United States
ATTACH;FMTTYPE=image/jpeg:https://thewoodsproject.org/wp-content/uploads/2023/02/Photo-Jun-08-2-58-56-PM-scaled.jpg
END:VEVENT
BEGIN:VEVENT
DTSTART;VALUE=DATE:20230618
DTEND;VALUE=DATE:20230702
DTSTAMP:20260420T044834
CREATED:20230412T203245Z
LAST-MODIFIED:20230412T203245Z
UID:9698-1687046400-1688255999@thewoodsproject.org
SUMMARY:Summer Trips- Olympic 1
DESCRIPTION:This summer\, our students and volunteer leaders will spend two weeks in the North Cascade and Olympic National Parks.
URL:https://thewoodsproject.org/calendar/summer-trips-olympic-1/
CATEGORIES:Participate,Volunteer
ATTACH;FMTTYPE=image/png:https://thewoodsproject.org/wp-content/uploads/2021/05/square1.png
END:VEVENT
BEGIN:VEVENT
DTSTART;TZID=UTC:20230618T040000
DTEND;TZID=UTC:20230618T060000
DTSTAMP:20260420T044834
CREATED:20230412T213014Z
LAST-MODIFIED:20230524T005259Z
UID:9714-1687060800-1687068000@thewoodsproject.org
SUMMARY:Airport Day- Departure Group 1
DESCRIPTION:It’s AIRPORT DAY!\nWe need your help! Join The Woods Project at both George Bush Intercontinental Airport (IAH) and or William P. Hobby Airport (HOU) as we send off nearly 200 students and 60 volunteers for their life-changing 2 week wilderness immersion experiences in California and Washington. \nWe have 6 flights departing between June 18th through July 13th. For many of our students\, this will be their first time on a plane – an exciting and nervous time! We need volunteers on the ground to help our student groups maneuver through the check-in process. This is a great way to connect with our students and encourage them as they embark on their journey. \nParking: Volunteers can park close to the Terminals or choose satellite parking. Please allow adequate time to get to the terminals\, if you decide on satellite parking. \nClick here to register for Sunday\, June 18th\, 4:00am at George Bush Intercontinental Airport.\n \nQuestions or have a group interested in volunteering – reach out to diana@thewoodsproject.org.
URL:https://thewoodsproject.org/calendar/airport-day-departure-group-1/
CATEGORIES:Participate,Volunteer
ATTACH;FMTTYPE=image/jpeg:https://thewoodsproject.org/wp-content/uploads/2023/04/655EC0C3-90BA-4A0C-A532-2A908DE50F14-scaled.jpg
END:VEVENT
BEGIN:VEVENT
DTSTART;VALUE=DATE:20230625
DTEND;VALUE=DATE:20230709
DTSTAMP:20260420T044834
CREATED:20230412T203518Z
LAST-MODIFIED:20230412T203518Z
UID:9701-1687651200-1688860799@thewoodsproject.org
SUMMARY:Summer Trips- Olympic 2
DESCRIPTION:This summer\, our students and volunteer leaders will spend two weeks in the North Cascade and Olympic National Parks.
URL:https://thewoodsproject.org/calendar/summer-trips-olympic-2/
CATEGORIES:Participate,Volunteer
ATTACH;FMTTYPE=image/png:https://thewoodsproject.org/wp-content/uploads/2021/05/square1.png
END:VEVENT
BEGIN:VEVENT
DTSTART;TZID=UTC:20230625T040000
DTEND;TZID=UTC:20230625T060000
DTSTAMP:20260420T044834
CREATED:20230412T213219Z
LAST-MODIFIED:20230524T005456Z
UID:9721-1687665600-1687672800@thewoodsproject.org
SUMMARY:Airport Day- Departure Group 2
DESCRIPTION:It’s AIRPORT DAY!\nWe need your help! Join The Woods Project at both George Bush Intercontinental Airport (IAH) and or William P. Hobby Airport (HOU) as we send off nearly 200 students and 60 volunteers for their life-changing 2 week wilderness immersion experiences in California and Washington. \nWe have 6 flights departing between June 18th through July 13th. For many of our students\, this will be their first time on a plane – an exciting and nervous time! We need volunteers on the ground to help our student groups maneuver through the check-in process. This is a great way to connect with our students and encourage them as they embark on their journey. \nParking: Volunteers can park close to the Terminals or choose satellite parking. Please allow adequate time to get to the terminals\, if you decide on satellite parking. \nClick here to register for Sunday\, June 25th\, 4:00am at George Bush Intercontinental Airport.\n \nQuestions or have a group interested in volunteering – reach out to diana@thewoodsproject.org.
URL:https://thewoodsproject.org/calendar/airport-day-departure-group-2-2/
CATEGORIES:Participate,Volunteer
ATTACH;FMTTYPE=image/jpeg:https://thewoodsproject.org/wp-content/uploads/2023/04/655EC0C3-90BA-4A0C-A532-2A908DE50F14-scaled.jpg
END:VEVENT
BEGIN:VEVENT
DTSTART;VALUE=DATE:20230626
DTEND;VALUE=DATE:20230710
DTSTAMP:20260420T044834
CREATED:20230412T204544Z
LAST-MODIFIED:20230412T204544Z
UID:9705-1687737600-1688947199@thewoodsproject.org
SUMMARY:Summer Trips- Donner Summit/ Desolation Wilderness 1
DESCRIPTION:This summer\, our students and volunteer leaders will spend two weeks just west of Lake Tahoe\, in the Donner Summit/Desolation Wilderness area.  The first week will be spent in an outdoor educational setting with a front country partner\, and the second week will be spent backpacking.
URL:https://thewoodsproject.org/calendar/summer-trips-donner-summit-desolation-wilderness-1/
CATEGORIES:Participate,Volunteer
ATTACH;FMTTYPE=image/jpeg:https://thewoodsproject.org/wp-content/uploads/2023/04/P1030289-scaled.jpg
END:VEVENT
BEGIN:VEVENT
DTSTART;TZID=UTC:20230626T080000
DTEND;TZID=UTC:20230626T100000
DTSTAMP:20260420T044834
CREATED:20230412T213630Z
LAST-MODIFIED:20230524T005537Z
UID:9723-1687766400-1687773600@thewoodsproject.org
SUMMARY:Airport Day- Departure Group 3
DESCRIPTION:It’s AIRPORT DAY!\nWe need your help! Join The Woods Project at both George Bush Intercontinental Airport (IAH) and or William P. Hobby Airport (HOU) as we send off nearly 200 students and 60 volunteers for their life-changing 2 week wilderness immersion experiences in California and Washington. \nWe have 6 flights departing between June 18th through July 13th. For many of our students\, this will be their first time on a plane – an exciting and nervous time! We need volunteers on the ground to help our student groups maneuver through the check-in process. This is a great way to connect with our students and encourage them as they embark on their journey. \nParking: Volunteers can park close to the Terminals or choose satellite parking. Please allow adequate time to get to the terminals\, if you decide on satellite parking. \nClick here to register for Monday\, June 26th\, 8:00am at William P. Hobby Airport.\n \nQuestions or have a group interested in volunteering – reach out to diana@thewoodsproject.org.
URL:https://thewoodsproject.org/calendar/airport-day-departure-group-3-2/
CATEGORIES:Participate,Volunteer
ATTACH;FMTTYPE=image/jpeg:https://thewoodsproject.org/wp-content/uploads/2023/04/655EC0C3-90BA-4A0C-A532-2A908DE50F14-scaled.jpg
END:VEVENT
END:VCALENDAR