BEGIN:VCALENDAR
VERSION:2.0
PRODID:-//The Woods Project - ECPv6.15.20//NONSGML v1.0//EN
CALSCALE:GREGORIAN
METHOD:PUBLISH
X-ORIGINAL-URL:https://thewoodsproject.org
X-WR-CALDESC:Events for The Woods Project
REFRESH-INTERVAL;VALUE=DURATION:PT1H
X-Robots-Tag:noindex
X-PUBLISHED-TTL:PT1H
BEGIN:VTIMEZONE
TZID:UTC
BEGIN:STANDARD
TZOFFSETFROM:+0000
TZOFFSETTO:+0000
TZNAME:UTC
DTSTART:20220101T000000
END:STANDARD
END:VTIMEZONE
BEGIN:VEVENT
DTSTART;TZID=UTC:20230506T090000
DTEND;TZID=UTC:20230506T160000
DTSTAMP:20260420T060812
CREATED:20230202T235303Z
LAST-MODIFIED:20230208T230351Z
UID:9483-1683363600-1683388800@thewoodsproject.org
SUMMARY:Summer Gear Inventory
DESCRIPTION:  \nSUMMER GEAR INVENTORY AND TENT SETUP \nMay 6th\, 9am – 4pm \nNOTE: We will be at our warehouse – 6910 Renwick Dr.\, Suite V (back side of the complex) \nWe rely on our volunteers to help ensure that our gear is ready for the nearly 200 students and 60 volunteer leaders that will be out with us this summer. We will be taking inventory\, setting up tents\, and making other preparations for summer. Please join us\, even if you can only make it for part of the time. Your help is greatly appreciated! \nBreakfast and lunch will be provided. \nPlease dress for outdoor work and bring a reusable water bottle. \nContact diana@thewoodsproject.org with any questions. \nIf you have not previously volunteered for The Woods Project\, please fill out our volunteer information form before signing up below. \nPlease REGISTER HERE to attend!
URL:https://thewoodsproject.org/calendar/summer-gear-inventory/
LOCATION:TWP Warehouse\, 6910 Renwick Drive\, Suite V\, Houston\, 77081\, United States
ATTACH;FMTTYPE=image/jpeg:https://thewoodsproject.org/wp-content/uploads/2023/02/20230116_101210-scaled.jpg
END:VEVENT
BEGIN:VEVENT
DTSTART;TZID=UTC:20230520T080000
DTEND;TZID=UTC:20230521T170000
DTSTAMP:20260420T060812
CREATED:20230201T050436Z
LAST-MODIFIED:20230412T195928Z
UID:9476-1684569600-1684688400@thewoodsproject.org
SUMMARY:Summer Leader Training #2
DESCRIPTION:Summer Leader Training\nRequired for ALL summer volunteer leaders.\n \nThe Woods Project summer leader training spans 2 days and will be held at our offices in the American Red Cross building (2700 Southwest Freeway\, Houston\, TX\, 77098). The training covers important information on procedures\, policies\, and programming through the incorporation of presentation\, discussion\, scenarios\, and hands-on gear handling. \nSummer leaders are required to attend 1 of the 2 sessions. \nLeader training #1 – Saturday\, April 22 – Sunday\, April 23 \nLeader training #2 – Saturday\, May 20 – Sunday\, May 21 \nREGISTER HERE if you have been assigned as a Summer Leader for the 2023 trips. \n 
URL:https://thewoodsproject.org/calendar/summer-leader-training-2/
ATTACH;FMTTYPE=image/jpeg:https://thewoodsproject.org/wp-content/uploads/2023/01/00DB7F8C-79B6-4C73-BA09-AE855087F449.jpg
END:VEVENT
BEGIN:VEVENT
DTSTART;TZID=UTC:20230527T080000
DTEND;TZID=UTC:20230528T170000
DTSTAMP:20260420T060812
CREATED:20230201T044435Z
LAST-MODIFIED:20230426T030102Z
UID:9470-1685174400-1685293200@thewoodsproject.org
SUMMARY:Wilderness First Aid #1
DESCRIPTION:Wilderness First Aid\nAre you hoping to be a volunteer with The Woods Project this summer\, or participate in some other upcoming wilderness experience?  If so\, this might be the course for you!  The Woods Project will be hosting a Wilderness First Aid (WFA) course\, which will take place all day on Saturday\, May 27th and Sunday\, May 28th.  Cost is $210 ($150 for TWP leaders) per participant for WFA\, and there will also be a CPR certification option for $40. \nREGISTER HERE if you would like to attend.
URL:https://thewoodsproject.org/calendar/wilderness-first-aid-1/
LOCATION:The Woods Project\, 2700 Southwest Freeway\, Houston\, TX\, 77098\, United States
ATTACH;FMTTYPE=image/jpeg:https://thewoodsproject.org/wp-content/uploads/2023/01/IMG_3089-scaled.jpeg
END:VEVENT
END:VCALENDAR