BEGIN:VCALENDAR
VERSION:2.0
PRODID:-//The Woods Project - ECPv6.15.20//NONSGML v1.0//EN
CALSCALE:GREGORIAN
METHOD:PUBLISH
X-ORIGINAL-URL:https://thewoodsproject.org
X-WR-CALDESC:Events for The Woods Project
REFRESH-INTERVAL;VALUE=DURATION:PT1H
X-Robots-Tag:noindex
X-PUBLISHED-TTL:PT1H
BEGIN:VTIMEZONE
TZID:UTC
BEGIN:STANDARD
TZOFFSETFROM:+0000
TZOFFSETTO:+0000
TZNAME:UTC
DTSTART:20220101T000000
END:STANDARD
END:VTIMEZONE
BEGIN:VEVENT
DTSTART;TZID=UTC:20230303T170000
DTEND;TZID=UTC:20230305T120000
DTSTAMP:20260422T045815
CREATED:20230109T194942Z
LAST-MODIFIED:20230128T051718Z
UID:9408-1677862800-1678017600@thewoodsproject.org
SUMMARY:Spring Weekend Trip #1
DESCRIPTION:Huntsville State Park or Sam Houston National Forest\nHuntsville State Park:  Sign up today for a weekend filled with plenty of water activities. The group of students and volunteers will spend half of their day canoeing and the other half kayaking with some fun group games mixed in. All skill levels welcome and appreciated! Both Friday and Saturday nights will be spent camping at Huntsville State Park.\n \nSam Houston National Forest:  This is a great opportunity for your students and leaders to have a glimpse of what to expect on their summer trip. We will have four groups hiking the Four Notch Loop and the Lone Star Hiking Trail. The groups will hike about 10 miles total over the course of Saturday and Sunday. We are looking for folks of all skill levels – from first-time backpackers to experts!\n \nREGISTER HERE! \nPlease note:  The trip signup is your opportunity to make your preferences and availability for our weekend trips known.  We will make our best effort to place you on the trip(s) that you have requested.  However\, due to limits on capacity\, as well as the need to maintain a reasonable adult:student ratio\, there may be trips where we do not have space for every leader who would like to attend. We will follow up by email 1-2 weeks prior to our weekend trips with details and all the information you will need for attending.  Thank you!
URL:https://thewoodsproject.org/calendar/spring-weekend-trip-1-2/
ATTACH;FMTTYPE=image/jpeg:https://thewoodsproject.org/wp-content/uploads/2022/09/PXL_20220402_190646845-scaled.jpg
END:VEVENT
BEGIN:VEVENT
DTSTART;TZID=UTC:20230324T170000
DTEND;TZID=UTC:20230326T120000
DTSTAMP:20260422T045815
CREATED:20230109T195300Z
LAST-MODIFIED:20230128T051907Z
UID:9412-1679677200-1679832000@thewoodsproject.org
SUMMARY:Spring Weekend Trip #2
DESCRIPTION:Brazos Bend State Park\nBrazos Bend State Park: We will be doing some hiking\, biking\, and exploring of the state park. Brazos Bend is known for its alligator population and unique features to this part of Texas\, so come ready to see some incredible wildlife while spending the day outside exploring. Both Friday and Saturday nights will be spent camping at Brazos Bend. \nREGISTER HERE! \nPlease note:  The trip signup is your opportunity to make your preferences and availability for our weekend trips known.  We will make our best effort to place you on the trip(s) that you have requested.  However\, due to limits on capacity\, as well as the need to maintain a reasonable adult:student ratio\, there may be trips where we do not have space for every leader who would like to attend. We will follow up by email 1-2 weeks prior to our weekend trips with details and all the information you will need for attending.  Thank you!
URL:https://thewoodsproject.org/calendar/spring-weekend-trip-2-2/
ATTACH;FMTTYPE=image/jpeg:https://thewoodsproject.org/wp-content/uploads/2022/01/Photo-Mar-24-1-15-16-PM-scaled.jpg
END:VEVENT
BEGIN:VEVENT
DTSTART;TZID=UTC:20230325T080000
DTEND;TZID=UTC:20230326T130000
DTSTAMP:20260422T045815
CREATED:20230311T013713Z
LAST-MODIFIED:20230311T013713Z
UID:9576-1679731200-1679835600@thewoodsproject.org
SUMMARY:JLP Spring Weekend Trip
DESCRIPTION:JLP Spring Weekend Trip\nTwo Creeks Ranch: This weekend trip will wrap up the spring semester for our Junior Leaders Program students prior to their summer trip. It will provide them an opportunity to give and receive feedback on JLP programming for the 2022-2023 school year. It will also give newer JLP recruits a chance to experience a weekend trip led and facilitated by students. PREREQUISITE: we require that all volunteer trip leaders have prior TWP trip experience before signing up. \nREGISTER HERE! \nPlease note:  The trip signup is your opportunity to make your preferences and availability for our weekend trips known.  We will make our best effort to place you on the trip(s) that you have requested.  However\, due to limits on capacity\, as well as the need to maintain a reasonable adult:student ratio\, there may be trips where we do not have space for every leader who would like to attend. We will follow up by email 1-2 weeks prior to our weekend trips with details and all the information you will need for attending.  Thank you!
URL:https://thewoodsproject.org/calendar/jlp-spring-weekend-trip/
ATTACH;FMTTYPE=image/jpeg:https://thewoodsproject.org/wp-content/uploads/2023/03/PXL_20221001_224108750-scaled.jpg
END:VEVENT
END:VCALENDAR