BEGIN:VCALENDAR
VERSION:2.0
PRODID:-//The Woods Project - ECPv6.15.20//NONSGML v1.0//EN
CALSCALE:GREGORIAN
METHOD:PUBLISH
X-WR-CALNAME:The Woods Project
X-ORIGINAL-URL:https://thewoodsproject.org
X-WR-CALDESC:Events for The Woods Project
REFRESH-INTERVAL;VALUE=DURATION:PT1H
X-Robots-Tag:noindex
X-PUBLISHED-TTL:PT1H
BEGIN:VTIMEZONE
TZID:UTC
BEGIN:STANDARD
TZOFFSETFROM:+0000
TZOFFSETTO:+0000
TZNAME:UTC
DTSTART:20220101T000000
END:STANDARD
END:VTIMEZONE
BEGIN:VEVENT
DTSTART;TZID=UTC:20230116T090000
DTEND;TZID=UTC:20230116T160000
DTSTAMP:20260422T075646
CREATED:20220926T230214Z
LAST-MODIFIED:20230105T235937Z
UID:9137-1673859600-1673884800@thewoodsproject.org
SUMMARY:MLK Day of Service - Gear Inventory and Tent Setup
DESCRIPTION:This is our biggest gear volunteer day of the year!  On this day\, we will count all of our gear so that we will be prepared for spring and summer trips\, as well as set up all of our tents to ensure that they are in good working order after so much use in the prior summer and fall! \nWe will meet at Bayland Park at 8:45 in order to begin at 9.  A group will stay at Bayland Park for tent setup\, and a group will head over to our warehouse at 6910 Renwick (back side) for gear inventory. \nPlease dress comfortably\, and bring a refillable water bottle.  Breakfast and lunch will be provided. \nIf you have not volunteered with us before\, please fill out our event volunteer form ahead of time for yourself and for anyone that comes with you. \nIf you have any questions\, please contact Adriane Arnold at adriane@thewoodsproject.org. \nPlease REGISTER HERE to attend!
URL:https://thewoodsproject.org/calendar/mlk-day-of-service/
LOCATION:Bayland Park\, 6400 Bissonnet St.\, Houston\, 77074\, United States
CATEGORIES:Participate,Volunteer
ATTACH;FMTTYPE=image/jpeg:https://thewoodsproject.org/wp-content/uploads/2022/09/Photo-May-07-12-37-06-PM-scaled.jpg
END:VEVENT
BEGIN:VEVENT
DTSTART;TZID=UTC:20230118T180000
DTEND;TZID=UTC:20230118T200000
DTSTAMP:20260422T075646
CREATED:20221212T223118Z
LAST-MODIFIED:20230107T044705Z
UID:9327-1674064800-1674072000@thewoodsproject.org
SUMMARY:Spring Volunteer Orientation
DESCRIPTION:Have you been curious about volunteering for a weekend trip\, but not quite sure what to expect? Then please join us for our Spring Volunteer Orientation! \n6:00-6:30 Meet & Greet: Enjoy mingling with current and new volunteers. \n6:30-8:00 Weekend Trip Orientation: \n\nWeekend trip schedule & activities\nGear information\nStudent and leader expectations\nHierarchy of roles and responsibilities\nQ&A\n\nThis session is required for first-time weekend trip volunteers. If you will have any new adults out with you this spring (other school personnel\, partners\, friends\, etc.)\, please pass on the date and have them sign up. \nPlease click here to sign up.  First time volunteering\, please click here to complete our Event Volunteer Information Form. \nQuestions? Please contact Adriane Arnold\, adriane@thewoodsproject.org
URL:https://thewoodsproject.org/calendar/spring-volunteer-orientation/
LOCATION:The Woods Project\, 2700 Southwest Freeway\, Houston\, TX\, 77098\, United States
ATTACH;FMTTYPE=image/jpeg:https://thewoodsproject.org/wp-content/uploads/2022/12/IMG_26281-scaled.jpg
END:VEVENT
END:VCALENDAR