BEGIN:VCALENDAR
VERSION:2.0
PRODID:-//The Woods Project - ECPv6.15.20//NONSGML v1.0//EN
CALSCALE:GREGORIAN
METHOD:PUBLISH
X-ORIGINAL-URL:https://thewoodsproject.org
X-WR-CALDESC:Events for The Woods Project
REFRESH-INTERVAL;VALUE=DURATION:PT1H
X-Robots-Tag:noindex
X-PUBLISHED-TTL:PT1H
BEGIN:VTIMEZONE
TZID:UTC
BEGIN:STANDARD
TZOFFSETFROM:+0000
TZOFFSETTO:+0000
TZNAME:UTC
DTSTART:20210101T000000
END:STANDARD
END:VTIMEZONE
BEGIN:VEVENT
DTSTART;TZID=UTC:20220930T170000
DTEND;TZID=UTC:20221002T120000
DTSTAMP:20260422T115352
CREATED:20220918T013346Z
LAST-MODIFIED:20220918T013346Z
UID:9075-1664557200-1664712000@thewoodsproject.org
SUMMARY:Fall JLP Weekend
DESCRIPTION:Brazos Bend State Park\nWe will be doing some hiking\, biking\, and exploring of the state park. Brazos Bend is known for its alligator population and unique features to this part of Texas\, so come ready to see some incredible wildlife while spending the day outside exploring. Saturday night will be spent camping at Brazos Bend.
URL:https://thewoodsproject.org/calendar/fall-jlp-weekend/
ATTACH;FMTTYPE=image/jpeg:https://thewoodsproject.org/wp-content/uploads/2022/09/29791640_1820078871375796_2022499699384975464_n.jpg
END:VEVENT
BEGIN:VEVENT
DTSTART;TZID=UTC:20221013T090000
DTEND;TZID=UTC:20221013T150000
DTSTAMP:20260422T115352
CREATED:20220930T154550Z
LAST-MODIFIED:20221005T222625Z
UID:9151-1665651600-1665673200@thewoodsproject.org
SUMMARY:Weekend Gear Packout #1
DESCRIPTION:On the Thursday before each of our weekend trips\, we need assistance picking up U-Hauls\, grocery shopping at Costco\, pulling gear from the warehouse\, and packing groceries and gear into U-Hauls. This is a full day for 4-5 volunteers and is critical to the success of our weekend trips. If possible\, please sign up for multiple shifts\, as there is a learning curve. \nLunch will be provided. \nPLEASE NOTE: For everyone’s safety\, volunteers must be fully vaccinated against COVID-19 in order to participate in this event. \nIf you have any questions\, please reach out to Adriane Arnold at adriane@thewoodsproject.org. \nThank you! \nREGISTER HERE!
URL:https://thewoodsproject.org/calendar/weekend-gear-packout-1/
LOCATION:TWP Warehouse\, 6910 Renwick Drive\, Suite V\, Houston\, 77081\, United States
ATTACH;FMTTYPE=image/jpeg:https://thewoodsproject.org/wp-content/uploads/2022/09/20180503_162131-scaled.jpg
END:VEVENT
BEGIN:VEVENT
DTSTART;TZID=UTC:20221014T170000
DTEND;TZID=UTC:20221016T120000
DTSTAMP:20260422T115352
CREATED:20220918T013431Z
LAST-MODIFIED:20221005T224545Z
UID:9059-1665766800-1665921600@thewoodsproject.org
SUMMARY:Fall Weekend Trip #1
DESCRIPTION:Lake Livingston or Turkey Creek\nLake Livingston Canoeing/Kayaking:  The Woods Project will once again be partnering with Texas Parks and Wildlife through Texas Outdoor Families. We will spend both Friday and Saturday nights camping along the shores of Lake Livingston at Lake Livingston State Park. On Saturday\, the group will be split into two so everyone will spend a half day of out on the water kayaking and the other half day hiking\, geocaching\, and fishing. If you have your own boat\, we encourage you to bring it along! \nTurkey Creek Backpacking:  You can’t beat backpacking in the fall in Texas! Please join us for a great weekend exploring a section of the Big Thicket National Preserve! On Saturday\, the group will head out to the Turkey Creek Trail. Three groups of hikers will hike 12 miles in total between Saturday and Sunday morning. Saturday evening will be spent in a campsite along the trail. Upon finishing the hike on Sunday morning\, the group will head back to Houston at approximately 12:00pm. \nREGISTER HERE! \nPlease note:  The trip signup is your opportunity to make your preferences and availability for our weekend trips known.  We will make our best effort to place you on the trip(s) that you have requested.  However\, due to limits on capacity\, as well as the need to maintain a reasonable adult:student ratio\, there may be trips where we do not have space for every leader who would like to attend. We will follow up by email 1-2 weeks prior to our weekend trips with details and all the information you will need for attending.  Thank you!
URL:https://thewoodsproject.org/calendar/fall-weekend-trip-1/
ATTACH;FMTTYPE=image/jpeg:https://thewoodsproject.org/wp-content/uploads/2022/09/PXL_20220402_190646845-scaled.jpg
END:VEVENT
BEGIN:VEVENT
DTSTART;TZID=UTC:20221027T090000
DTEND;TZID=UTC:20221027T150000
DTSTAMP:20260422T115352
CREATED:20220930T154956Z
LAST-MODIFIED:20221005T222242Z
UID:9155-1666861200-1666882800@thewoodsproject.org
SUMMARY:Weekend Gear Packout #2
DESCRIPTION:On the Thursday before each of our weekend trips\, we need assistance picking up U-Hauls\, grocery shopping at Costco\, pulling gear from the warehouse\, and packing groceries and gear into U-Hauls. This is a full day for 4-5 volunteers and is critical to the success of our weekend trips. If possible\, please sign up for multiple shifts\, as there is a learning curve. \nLunch will be provided. \nPLEASE NOTE: For everyone’s safety\, volunteers must be fully vaccinated against COVID-19 in order to participate in this event. \nIf you have any questions\, please reach out to Adriane Arnold at adriane@thewoodsproject.org. \nThank you! \nREGISTER HERE!
URL:https://thewoodsproject.org/calendar/weekend-gear-packout-2/
LOCATION:TWP Warehouse\, 6910 Renwick Drive\, Suite V\, Houston\, 77081\, United States
ATTACH;FMTTYPE=image/jpeg:https://thewoodsproject.org/wp-content/uploads/2022/09/20180503_162131-scaled.jpg
END:VEVENT
BEGIN:VEVENT
DTSTART;TZID=UTC:20221028T170000
DTEND;TZID=UTC:20221030T120000
DTSTAMP:20260422T115352
CREATED:20220918T013417Z
LAST-MODIFIED:20220930T151513Z
UID:9068-1666976400-1667131200@thewoodsproject.org
SUMMARY:Fall Weekend Trip #2
DESCRIPTION:Martin Dies\, Jr. State Park\nMartin Dies\, Jr. Canoeing/Kayaking:  The Woods Project will once again be partnering with Texas Parks and Wildlife through Texas Outdoor Families. We will spend both Friday and Saturday nights camping along the shores of Steinhagen Reservoir at Martin Dies\, Jr. State Park. On Saturday\, the group will be split into two so everyone will spend a half day of out on the water kayaking and the other half day hiking\, geocaching\, and fishing. If you have your own boat\, we encourage you to bring it along! \nREGISTER HERE! \nPlease note:  The trip signup is your opportunity to make your preferences and availability for our weekend trips known.  We will make our best effort to place you on the trip(s) that you have requested.  However\, due to limits on capacity\, as well as the need to maintain a reasonable adult:student ratio\, there may be trips where we do not have space for every leader who would like to attend. We will follow up by email 1-2 weeks prior to our weekend trips with details and all the information you will need for attending.  Thank you!
URL:https://thewoodsproject.org/calendar/fall-weekend-trip-2/
LOCATION:Martin Dies\, Jr. State Park\, 634 Park Rd 48 S\, Jasper\, TX\, 75951\, United States
ATTACH;FMTTYPE=image/jpeg:https://thewoodsproject.org/wp-content/uploads/2022/09/PXL_20220402_152059661-scaled.jpg
END:VEVENT
END:VCALENDAR