BEGIN:VCALENDAR
VERSION:2.0
PRODID:-//The Woods Project - ECPv6.15.20//NONSGML v1.0//EN
CALSCALE:GREGORIAN
METHOD:PUBLISH
X-WR-CALNAME:The Woods Project
X-ORIGINAL-URL:https://thewoodsproject.org
X-WR-CALDESC:Events for The Woods Project
REFRESH-INTERVAL;VALUE=DURATION:PT1H
X-Robots-Tag:noindex
X-PUBLISHED-TTL:PT1H
BEGIN:VTIMEZONE
TZID:America/Chicago
BEGIN:DAYLIGHT
TZOFFSETFROM:-0600
TZOFFSETTO:-0500
TZNAME:CDT
DTSTART:20250309T080000
END:DAYLIGHT
BEGIN:STANDARD
TZOFFSETFROM:-0500
TZOFFSETTO:-0600
TZNAME:CST
DTSTART:20251102T070000
END:STANDARD
BEGIN:DAYLIGHT
TZOFFSETFROM:-0600
TZOFFSETTO:-0500
TZNAME:CDT
DTSTART:20260308T080000
END:DAYLIGHT
BEGIN:STANDARD
TZOFFSETFROM:-0500
TZOFFSETTO:-0600
TZNAME:CST
DTSTART:20261101T070000
END:STANDARD
BEGIN:DAYLIGHT
TZOFFSETFROM:-0600
TZOFFSETTO:-0500
TZNAME:CDT
DTSTART:20270314T080000
END:DAYLIGHT
BEGIN:STANDARD
TZOFFSETFROM:-0500
TZOFFSETTO:-0600
TZNAME:CST
DTSTART:20271107T070000
END:STANDARD
END:VTIMEZONE
BEGIN:VEVENT
DTSTART;TZID=America/Chicago:20260422T090000
DTEND;TZID=America/Chicago:20260422T120000
DTSTAMP:20260422T043412
CREATED:20260304T181652Z
LAST-MODIFIED:20260304T184205Z
UID:12362-1776848400-1776859200@thewoodsproject.org
SUMMARY:Summer Snack Sorting: Amegy Bank Volunteers
DESCRIPTION:Summer Snack Sorting with Amegy\nWelcome Amegy Bank volunteers! Do you like to sort and organize things? If so\, we could use your help! Once again\, we will be separating the snack\, hot cocoa\, and oatmeal sorting from our gear pack-outs. We will meet at the warehouse and set up tables and bins. The activity involves counting out a variety of snacks\, oatmeal\, or cocoa packets and putting them in 2 gal bags. We will also prepare the travel day snack bags the students will take on their Airport Day. It’s a simple activity but time consuming due to the volume and diversity of snacks. \nAmegyBank Registration Link. 
URL:https://thewoodsproject.org/calendar/summer-snack-sorting-amegy-group-volunteers/
LOCATION:The Woods Project\, 2700 Southwest Freeway\, Houston\, TX\, 77098\, United States
ATTACH;FMTTYPE=image/jpeg:https://thewoodsproject.org/wp-content/uploads/2026/03/20250508_105802-scaled.jpg
END:VEVENT
BEGIN:VEVENT
DTSTART;TZID=America/Chicago:20260422T173000
DTEND;TZID=America/Chicago:20260422T210000
DTSTAMP:20260422T043412
CREATED:20260205T174354Z
LAST-MODIFIED:20260409T153805Z
UID:12287-1776879000-1776891600@thewoodsproject.org
SUMMARY:Parent Meetings: Volunteers Needed
DESCRIPTION:It’s summer at The Woods Project!\nTo kick off our summer trips we host informational meetings for students and parents so they can see what our summer program entails. We would love a handful of volunteers that can help with check-in and if possible translation. We have students from different schools and organizations show up to each meeting.  We will have a few parents that speak primarily Spanish\, French\, or Vietnamese. Having a volunteer that can help translate our responses and help parents ask their question would be fantastic! Of course\, if you don’t speak a second language no worries. Your help checking students in and guiding them to the meeting room would be incredibly helpful! \nThe meeting itself starts at 6:30 p.m. We ask that you show up at 5:30 to help set up the check-in table and possibly the room. \nWednesday\, April 22: Register here. \nIf you have questions please reach out to diana@thewoodsproject.org. \n 
URL:https://thewoodsproject.org/calendar/parent-meetings-volunteers-needed-4/
ATTACH;FMTTYPE=image/jpeg:https://thewoodsproject.org/wp-content/uploads/2026/02/20250415_190945-scaled.jpg
END:VEVENT
END:VCALENDAR