BEGIN:VCALENDAR
VERSION:2.0
PRODID:-//The Woods Project - ECPv6.15.20//NONSGML v1.0//EN
CALSCALE:GREGORIAN
METHOD:PUBLISH
X-WR-CALNAME:The Woods Project
X-ORIGINAL-URL:https://thewoodsproject.org
X-WR-CALDESC:Events for The Woods Project
REFRESH-INTERVAL;VALUE=DURATION:PT1H
X-Robots-Tag:noindex
X-PUBLISHED-TTL:PT1H
BEGIN:VTIMEZONE
TZID:America/Chicago
BEGIN:DAYLIGHT
TZOFFSETFROM:-0600
TZOFFSETTO:-0500
TZNAME:CDT
DTSTART:20250309T080000
END:DAYLIGHT
BEGIN:STANDARD
TZOFFSETFROM:-0500
TZOFFSETTO:-0600
TZNAME:CST
DTSTART:20251102T070000
END:STANDARD
BEGIN:DAYLIGHT
TZOFFSETFROM:-0600
TZOFFSETTO:-0500
TZNAME:CDT
DTSTART:20260308T080000
END:DAYLIGHT
BEGIN:STANDARD
TZOFFSETFROM:-0500
TZOFFSETTO:-0600
TZNAME:CST
DTSTART:20261101T070000
END:STANDARD
BEGIN:DAYLIGHT
TZOFFSETFROM:-0600
TZOFFSETTO:-0500
TZNAME:CDT
DTSTART:20270314T080000
END:DAYLIGHT
BEGIN:STANDARD
TZOFFSETFROM:-0500
TZOFFSETTO:-0600
TZNAME:CST
DTSTART:20271107T070000
END:STANDARD
END:VTIMEZONE
BEGIN:VEVENT
DTSTART;TZID=America/Chicago:20260420T100000
DTEND;TZID=America/Chicago:20260420T123000
DTSTAMP:20260420T015201
CREATED:20260323T172732Z
LAST-MODIFIED:20260323T192523Z
UID:12399-1776679200-1776688200@thewoodsproject.org
SUMMARY:Tent Inventory & Set up
DESCRIPTION:Help us get ready for summer by getting our tents ready prior to sending them out on our summer trips! This involves setting them up\, checking for damage\, identifying any missing parts\, and then breaking them back down and packing them up. It’s a simple task that goes quickly with 15 to 20 people. If time allows we will do some simple repairs involving gear tape. \nWe will meet at Bayland Park at 9:45am in order to begin at 10am. Please dress comfortably\, and bring a refillable water bottle. We will have breakfast\, cold drinks\, and snacks. \nFirst time volunteering with us? Please fill out our event volunteer form ahead of time for yourself and for anyone that comes with you. If you have any questions\, please contact diana@thewoodsproject.org \nPlease REGISTER HERE to attend!
URL:https://thewoodsproject.org/calendar/tent-inventory-set-up/
LOCATION:Bayland Park\, 6400 Bissonnet St.\, Houston\, 77074\, United States
ATTACH;FMTTYPE=image/jpeg:https://thewoodsproject.org/wp-content/uploads/2024/08/Tent-Rachael-Sears-scaled-e1724791246356.jpeg
END:VEVENT
END:VCALENDAR